BEGIN:VCALENDAR
VERSION:2.0
PRODID:http://www.weinco.at
METHOD:PUBLISH
BEGIN:VEVENT
UID:f9989a9443ac061cf808a80bb8edb46c@weinco.at
LOCATION:Pummererstraße 4, 4020 Linz
SUMMARY:Weingut Salzl
DESCRIPTION:<p><span>Kommen Sie </span><strong>zwischen 10:00 und 16:00 Uhr</strong><span>&nbsp;in unsere&nbsp;</span><strong>WEIN &amp; CO Filiale Linz Pummererstraße </strong><span>und verkosten Sie das Line-up des&nbsp;</span><strong>Weinguts Salzl.</strong></p>
CLASS:PUBLIC
DTSTART:20261205T100000
DTSTAMP:20260425T125700
END:VEVENT
END:VCALENDAR
