BEGIN:VCALENDAR
VERSION:2.0
PRODID:http://www.weinco.at
METHOD:PUBLISH
BEGIN:VEVENT
UID:3b7dc46bb8c1cd27c5e259d59aec73f3@weinco.at
LOCATION:Landstraßer Hauptstraße 23, 1030 Wien
SUMMARY:Weingut Nittnaus
DESCRIPTION:<p>Kommen Sie von&nbsp;<strong>15:00–18:00 Uhr</strong>&nbsp;in unsere&nbsp;<strong>WEIN &amp; CO Filiale Wien Landstraßer Hauptstraße</strong>&nbsp;und verkosten Sie das Line-up des&nbsp;<strong>Weinguts Nittnaus</strong>.</p>
CLASS:PUBLIC
DTSTART:20260508T150000
DTSTAMP:20260425T125400
END:VEVENT
END:VCALENDAR
