BEGIN:VCALENDAR
VERSION:2.0
PRODID:http://www.weinco.at
METHOD:PUBLISH
BEGIN:VEVENT
UID:91983ccf17b3200975d9e3d8a09236a8@weinco.at
LOCATION:Wiener Str. 1, 5301 Eugendorf
SUMMARY:Mayer am Pfarrplatz x Rotes Haus
DESCRIPTION:<p><span>Kommen Sie </span><strong>zwischen 14:00 und 18:00 Uhr</strong><span>&nbsp;in unsere&nbsp;</span><strong>WEIN &amp; CO Filiale Eugendorf </strong><span>und verkosten Sie das Line-up des&nbsp;</span><strong>Weinguts Mayer am Pfarrplatz x Rotes Haus.</strong></p>
CLASS:PUBLIC
DTSTART:20260521T140000
DTSTAMP:20260425T125900
END:VEVENT
END:VCALENDAR
