BEGIN:VCALENDAR
VERSION:2.0
PRODID:http://www.weinco.at
METHOD:PUBLISH
BEGIN:VEVENT
UID:666108a9094a0ec0f62ca61a2eb74538@weinco.at
LOCATION:Getreidemarkt 1, 1060 Wien
SUMMARY:Christian Moueix
DESCRIPTION:<p>Kommen Sie von&nbsp;<strong>15:00–19:00 Uhr</strong>&nbsp;in unsere&nbsp;<strong>WEIN &amp; CO Filiale Wien Naschmarkt</strong> und verkosten Sie das Line-up von <strong>Christian</strong> <strong>Moueix</strong>.</p>
CLASS:PUBLIC
DTSTART:20260925T150000
DTSTAMP:20260425T125700
END:VEVENT
END:VCALENDAR
