BEGIN:VCALENDAR
VERSION:2.0
PRODID:http://www.weinco.at
METHOD:PUBLISH
BEGIN:VEVENT
UID:aaf662be6cd123f4c54c4d90d24b1373@weinco.at
LOCATION:Mariahilfer Straße 36, 1070 Wien
SUMMARY:Champagnerbrunch Wien 
DESCRIPTION:
CLASS:PUBLIC
DTSTART:20160911T113000
DTSTAMP:20260421T183000
END:VEVENT
END:VCALENDAR
